BEGIN:VCALENDAR
VERSION:2.0
PRODID:-//Working Horse Central - ECPv6.15.20//NONSGML v1.0//EN
CALSCALE:GREGORIAN
METHOD:PUBLISH
X-WR-CALNAME:Working Horse Central
X-ORIGINAL-URL:https://workinghorsecentral.com
X-WR-CALDESC:Events for Working Horse Central
REFRESH-INTERVAL;VALUE=DURATION:PT1H
X-Robots-Tag:noindex
X-PUBLISHED-TTL:PT1H
BEGIN:VTIMEZONE
TZID:America/Chicago
BEGIN:DAYLIGHT
TZOFFSETFROM:-0600
TZOFFSETTO:-0500
TZNAME:CDT
DTSTART:20210314T080000
END:DAYLIGHT
BEGIN:STANDARD
TZOFFSETFROM:-0500
TZOFFSETTO:-0600
TZNAME:CST
DTSTART:20211107T070000
END:STANDARD
BEGIN:DAYLIGHT
TZOFFSETFROM:-0600
TZOFFSETTO:-0500
TZNAME:CDT
DTSTART:20220313T080000
END:DAYLIGHT
BEGIN:STANDARD
TZOFFSETFROM:-0500
TZOFFSETTO:-0600
TZNAME:CST
DTSTART:20221106T070000
END:STANDARD
BEGIN:DAYLIGHT
TZOFFSETFROM:-0600
TZOFFSETTO:-0500
TZNAME:CDT
DTSTART:20230312T080000
END:DAYLIGHT
BEGIN:STANDARD
TZOFFSETFROM:-0500
TZOFFSETTO:-0600
TZNAME:CST
DTSTART:20231105T070000
END:STANDARD
END:VTIMEZONE
BEGIN:VEVENT
DTSTART;VALUE=DATE:20221101
DTEND;VALUE=DATE:20221201
DTSTAMP:20260421T143224
CREATED:20220405T191806Z
LAST-MODIFIED:20220405T192355Z
UID:5932-1667260800-1669852799@workinghorsecentral.com
SUMMARY:Fourth Quarter Virtual Competition
DESCRIPTION:
URL:https://workinghorsecentral.com/event/fourth-quarter-virtual-competition/
CATEGORIES:Virtual Events
ATTACH;FMTTYPE=image/jpeg:https://workinghorsecentral.com/wp-content/uploads/2021/12/malgorzata-bujalska-L0k69RU-mTI-unsplash-1.jpg
ORGANIZER;CN="TNT Quarter Horses LLC.":MAILTO:tntfarmsqtrhorses@yahoo.com
END:VEVENT
BEGIN:VEVENT
DTSTART;VALUE=DATE:20221031
DTEND;VALUE=DATE:20221101
DTSTAMP:20260421T143224
CREATED:20220405T192930Z
LAST-MODIFIED:20220405T193035Z
UID:5941-1667174400-1667260799@workinghorsecentral.com
SUMMARY:Fourth Quarter Virtual Competition Entries Close
DESCRIPTION:
URL:https://workinghorsecentral.com/event/fourth-quarter-virtual-competition-entries-close/
CATEGORIES:Virtual Events
ATTACH;FMTTYPE=image/jpeg:https://workinghorsecentral.com/wp-content/uploads/2021/12/malgorzata-bujalska-L0k69RU-mTI-unsplash-1.jpg
ORGANIZER;CN="TNT Quarter Horses LLC.":MAILTO:tntfarmsqtrhorses@yahoo.com
END:VEVENT
BEGIN:VEVENT
DTSTART;TZID=America/Chicago:20221025T190000
DTEND;TZID=America/Chicago:20221025T200000
DTSTAMP:20260421T143224
CREATED:20220606T185822Z
LAST-MODIFIED:20220606T190248Z
UID:6327-1666724400-1666728000@workinghorsecentral.com
SUMMARY:Education Module
DESCRIPTION:
URL:https://workinghorsecentral.com/event/education-module-11/
CATEGORIES:Virtual Events
ATTACH;FMTTYPE=image/jpeg:https://workinghorsecentral.com/wp-content/uploads/2022/01/jeremy-bishop-wn4p4Z6lujs-unsplash-scaled.jpg
END:VEVENT
BEGIN:VEVENT
DTSTART;VALUE=DATE:20221015
DTEND;VALUE=DATE:20221016
DTSTAMP:20260421T143224
CREATED:20220405T192519Z
LAST-MODIFIED:20220405T192658Z
UID:5937-1665792000-1665878399@workinghorsecentral.com
SUMMARY:Fourth Quarter Virtual Competition Entries Open
DESCRIPTION:
URL:https://workinghorsecentral.com/event/https-workinghorsecentral-com-forms-2022-11-01-show-virtual-entry/
CATEGORIES:Virtual Events
ATTACH;FMTTYPE=image/jpeg:https://workinghorsecentral.com/wp-content/uploads/2021/12/malgorzata-bujalska-L0k69RU-mTI-unsplash-1.jpg
ORGANIZER;CN="TNT Quarter Horses LLC.":MAILTO:tntfarmsqtrhorses@yahoo.com
END:VEVENT
BEGIN:VEVENT
DTSTART;TZID=America/Chicago:20220927T190000
DTEND;TZID=America/Chicago:20220927T200000
DTSTAMP:20260421T143224
CREATED:20220606T185814Z
LAST-MODIFIED:20220606T190108Z
UID:6326-1664305200-1664308800@workinghorsecentral.com
SUMMARY:Education Module
DESCRIPTION:
URL:https://workinghorsecentral.com/event/education-module-10/
CATEGORIES:Virtual Events
ATTACH;FMTTYPE=image/jpeg:https://workinghorsecentral.com/wp-content/uploads/2022/01/jeremy-bishop-wn4p4Z6lujs-unsplash-scaled.jpg
END:VEVENT
BEGIN:VEVENT
DTSTART;TZID=America/Chicago:20220809T190000
DTEND;TZID=America/Chicago:20220809T200000
DTSTAMP:20260421T143224
CREATED:20220606T185807Z
LAST-MODIFIED:20220606T185929Z
UID:6325-1660071600-1660075200@workinghorsecentral.com
SUMMARY:Education Module
DESCRIPTION:
URL:https://workinghorsecentral.com/event/education-module-9/
CATEGORIES:Virtual Events
ATTACH;FMTTYPE=image/jpeg:https://workinghorsecentral.com/wp-content/uploads/2022/01/jeremy-bishop-wn4p4Z6lujs-unsplash-scaled.jpg
END:VEVENT
BEGIN:VEVENT
DTSTART;VALUE=DATE:20220801
DTEND;VALUE=DATE:20220901
DTSTAMP:20260421T143224
CREATED:20220405T190245Z
LAST-MODIFIED:20220405T190732Z
UID:5908-1659312000-1661990399@workinghorsecentral.com
SUMMARY:Third Quarter Virtual Competition
DESCRIPTION:
URL:https://workinghorsecentral.com/event/third-quarter-virtual-competition/
CATEGORIES:Virtual Events
ATTACH;FMTTYPE=image/jpeg:https://workinghorsecentral.com/wp-content/uploads/2021/12/malgorzata-bujalska-L0k69RU-mTI-unsplash-1.jpg
ORGANIZER;CN="TNT Quarter Horses LLC.":MAILTO:tntfarmsqtrhorses@yahoo.com
END:VEVENT
BEGIN:VEVENT
DTSTART;VALUE=DATE:20220731
DTEND;VALUE=DATE:20220801
DTSTAMP:20260421T143224
CREATED:20220405T191506Z
LAST-MODIFIED:20220405T191648Z
UID:5928-1659225600-1659311999@workinghorsecentral.com
SUMMARY:Third Quarter Virtual Competition Entries Close
DESCRIPTION:
URL:https://workinghorsecentral.com/event/third-quarter-virtual-competition-entries-close/
CATEGORIES:Virtual Events
ATTACH;FMTTYPE=image/jpeg:https://workinghorsecentral.com/wp-content/uploads/2021/12/malgorzata-bujalska-L0k69RU-mTI-unsplash-1.jpg
ORGANIZER;CN="TNT Quarter Horses LLC.":MAILTO:tntfarmsqtrhorses@yahoo.com
END:VEVENT
BEGIN:VEVENT
DTSTART;TZID=America/Chicago:20220726T190000
DTEND;TZID=America/Chicago:20220726T200000
DTSTAMP:20260421T143224
CREATED:20220606T185550Z
LAST-MODIFIED:20220606T185655Z
UID:6323-1658862000-1658865600@workinghorsecentral.com
SUMMARY:Education Module
DESCRIPTION:
URL:https://workinghorsecentral.com/event/education-module-8/
CATEGORIES:Virtual Events
ATTACH;FMTTYPE=image/jpeg:https://workinghorsecentral.com/wp-content/uploads/2022/01/jeremy-bishop-wn4p4Z6lujs-unsplash-scaled.jpg
END:VEVENT
BEGIN:VEVENT
DTSTART;VALUE=DATE:20220715
DTEND;VALUE=DATE:20220716
DTSTAMP:20260421T143224
CREATED:20220405T191013Z
LAST-MODIFIED:20220405T191419Z
UID:5918-1657843200-1657929599@workinghorsecentral.com
SUMMARY:Third Quarter Virtual Competition Entries Open
DESCRIPTION:
URL:https://workinghorsecentral.com/event/third-quarter-virtual-competition-entries-open/
CATEGORIES:Virtual Events
ATTACH;FMTTYPE=image/jpeg:https://workinghorsecentral.com/wp-content/uploads/2021/12/malgorzata-bujalska-L0k69RU-mTI-unsplash-1.jpg
ORGANIZER;CN="TNT Quarter Horses LLC.":MAILTO:tntfarmsqtrhorses@yahoo.com
END:VEVENT
BEGIN:VEVENT
DTSTART;TZID=America/Chicago:20220628T190000
DTEND;TZID=America/Chicago:20220628T200000
DTSTAMP:20260421T143224
CREATED:20220602T010039Z
LAST-MODIFIED:20220602T010214Z
UID:6320-1656442800-1656446400@workinghorsecentral.com
SUMMARY:Education Module
DESCRIPTION:
URL:https://workinghorsecentral.com/event/education-module-7/
CATEGORIES:Virtual Events
ATTACH;FMTTYPE=image/jpeg:https://workinghorsecentral.com/wp-content/uploads/2022/01/jeremy-bishop-wn4p4Z6lujs-unsplash-scaled.jpg
END:VEVENT
BEGIN:VEVENT
DTSTART;TZID=America/Chicago:20220531T190000
DTEND;TZID=America/Chicago:20220531T200000
DTSTAMP:20260421T143224
CREATED:20220429T172148Z
LAST-MODIFIED:20220429T172405Z
UID:6307-1654023600-1654027200@workinghorsecentral.com
SUMMARY:Education Module
DESCRIPTION:
URL:https://workinghorsecentral.com/event/education-module-6/
CATEGORIES:Virtual Events
ATTACH;FMTTYPE=image/jpeg:https://workinghorsecentral.com/wp-content/uploads/2022/01/jeremy-bishop-wn4p4Z6lujs-unsplash-scaled.jpg
END:VEVENT
BEGIN:VEVENT
DTSTART;VALUE=DATE:20220501
DTEND;VALUE=DATE:20220601
DTSTAMP:20260421T143224
CREATED:20220405T184219Z
LAST-MODIFIED:20220405T185701Z
UID:5887-1651363200-1654041599@workinghorsecentral.com
SUMMARY:Second Quarter Virtual Competition
DESCRIPTION:
URL:https://workinghorsecentral.com/event/second-quarter-virtual-competition/
CATEGORIES:Virtual Events
ATTACH;FMTTYPE=image/jpeg:https://workinghorsecentral.com/wp-content/uploads/2021/12/malgorzata-bujalska-L0k69RU-mTI-unsplash-1.jpg
ORGANIZER;CN="TNT Quarter Horses LLC.":MAILTO:tntfarmsqtrhorses@yahoo.com
END:VEVENT
BEGIN:VEVENT
DTSTART;VALUE=DATE:20220430
DTEND;VALUE=DATE:20220501
DTSTAMP:20260421T143224
CREATED:20220405T185935Z
LAST-MODIFIED:20220405T190028Z
UID:5903-1651276800-1651363199@workinghorsecentral.com
SUMMARY:Second Quarter Virtual Competition Entries Close
DESCRIPTION:
URL:https://workinghorsecentral.com/event/second-quarter-virtual-competition-entries-close/
CATEGORIES:Virtual Events
ATTACH;FMTTYPE=image/jpeg:https://workinghorsecentral.com/wp-content/uploads/2021/12/malgorzata-bujalska-L0k69RU-mTI-unsplash-1.jpg
ORGANIZER;CN="TNT Quarter Horses LLC.":MAILTO:tntfarmsqtrhorses@yahoo.com
END:VEVENT
BEGIN:VEVENT
DTSTART;TZID=America/Chicago:20220426T190000
DTEND;TZID=America/Chicago:20220426T200000
DTSTAMP:20260421T143224
CREATED:20220125T045553Z
LAST-MODIFIED:20220125T045632Z
UID:5580-1650999600-1651003200@workinghorsecentral.com
SUMMARY:Education Module
DESCRIPTION:
URL:https://workinghorsecentral.com/event/education-module-5/
CATEGORIES:Virtual Events
ATTACH;FMTTYPE=image/jpeg:https://workinghorsecentral.com/wp-content/uploads/2022/01/jeremy-bishop-wn4p4Z6lujs-unsplash-scaled.jpg
END:VEVENT
BEGIN:VEVENT
DTSTART;VALUE=DATE:20220415
DTEND;VALUE=DATE:20220416
DTSTAMP:20260421T143224
CREATED:20220405T185755Z
LAST-MODIFIED:20220405T185900Z
UID:5900-1649980800-1650067199@workinghorsecentral.com
SUMMARY:Second Quarter Virtual Competition Entries Open
DESCRIPTION:
URL:https://workinghorsecentral.com/event/second-quarter-virtual-competition-entries-open/
CATEGORIES:Virtual Events
ATTACH;FMTTYPE=image/jpeg:https://workinghorsecentral.com/wp-content/uploads/2021/12/malgorzata-bujalska-L0k69RU-mTI-unsplash-1.jpg
ORGANIZER;CN="TNT Quarter Horses LLC.":MAILTO:tntfarmsqtrhorses@yahoo.com
END:VEVENT
BEGIN:VEVENT
DTSTART;TZID=America/Chicago:20220412T190000
DTEND;TZID=America/Chicago:20220412T200000
DTSTAMP:20260421T143224
CREATED:20220125T045423Z
LAST-MODIFIED:20220125T045514Z
UID:5578-1649790000-1649793600@workinghorsecentral.com
SUMMARY:Education Module
DESCRIPTION:
URL:https://workinghorsecentral.com/event/education-module-4/
CATEGORIES:Virtual Events
ATTACH;FMTTYPE=image/jpeg:https://workinghorsecentral.com/wp-content/uploads/2022/01/jeremy-bishop-wn4p4Z6lujs-unsplash-scaled.jpg
END:VEVENT
BEGIN:VEVENT
DTSTART;TZID=America/Chicago:20220329T190000
DTEND;TZID=America/Chicago:20220329T200000
DTSTAMP:20260421T143224
CREATED:20220125T045305Z
LAST-MODIFIED:20220125T045347Z
UID:5575-1648580400-1648584000@workinghorsecentral.com
SUMMARY:Education Module
DESCRIPTION:
URL:https://workinghorsecentral.com/event/education-module-3/
CATEGORIES:Virtual Events
ATTACH;FMTTYPE=image/jpeg:https://workinghorsecentral.com/wp-content/uploads/2022/01/jeremy-bishop-wn4p4Z6lujs-unsplash-scaled.jpg
END:VEVENT
BEGIN:VEVENT
DTSTART;TZID=America/Chicago:20220315T190000
DTEND;TZID=America/Chicago:20220315T200000
DTSTAMP:20260421T143224
CREATED:20220125T045201Z
LAST-MODIFIED:20220125T045240Z
UID:5573-1647370800-1647374400@workinghorsecentral.com
SUMMARY:Education Module
DESCRIPTION:
URL:https://workinghorsecentral.com/event/education-module-2/
CATEGORIES:Virtual Events
ATTACH;FMTTYPE=image/jpeg:https://workinghorsecentral.com/wp-content/uploads/2022/01/jeremy-bishop-wn4p4Z6lujs-unsplash-scaled.jpg
END:VEVENT
BEGIN:VEVENT
DTSTART;TZID=America/Chicago:20220301T190000
DTEND;TZID=America/Chicago:20220301T200000
DTSTAMP:20260421T143224
CREATED:20220125T044856Z
LAST-MODIFIED:20220125T045118Z
UID:5571-1646161200-1646164800@workinghorsecentral.com
SUMMARY:Education Module
DESCRIPTION:
URL:https://workinghorsecentral.com/event/education-module/
CATEGORIES:Virtual Events
ATTACH;FMTTYPE=image/jpeg:https://workinghorsecentral.com/wp-content/uploads/2022/01/jeremy-bishop-wn4p4Z6lujs-unsplash-scaled.jpg
END:VEVENT
BEGIN:VEVENT
DTSTART;TZID=America/Chicago:20220215T190000
DTEND;TZID=America/Chicago:20220215T200000
DTSTAMP:20260421T143224
CREATED:20220125T034729Z
LAST-MODIFIED:20220125T044643Z
UID:5523-1644951600-1644955200@workinghorsecentral.com
SUMMARY:Education Module
DESCRIPTION:
URL:https://workinghorsecentral.com/event/whc-education-module/
CATEGORIES:Virtual Events
ATTACH;FMTTYPE=image/jpeg:https://workinghorsecentral.com/wp-content/uploads/2022/01/jeremy-bishop-wn4p4Z6lujs-unsplash-scaled.jpg
END:VEVENT
BEGIN:VEVENT
DTSTART;TZID=America/Chicago:20220203T190000
DTEND;TZID=America/Chicago:20220203T200000
DTSTAMP:20260421T143224
CREATED:20220201T031957Z
LAST-MODIFIED:20220201T033134Z
UID:5671-1643914800-1643918400@workinghorsecentral.com
SUMMARY:Virtual Show Competitor Meeting
DESCRIPTION:
URL:https://workinghorsecentral.com/event/virtual-show-competitor-meeting/
CATEGORIES:Virtual Events
ATTACH;FMTTYPE=image/jpeg:https://workinghorsecentral.com/wp-content/uploads/2022/01/stefanie-poepken-GKNPN87m-d0-unsplash.jpg
END:VEVENT
BEGIN:VEVENT
DTSTART;VALUE=DATE:20220201
DTEND;VALUE=DATE:20220311
DTSTAMP:20260421T143224
CREATED:20220108T195745Z
LAST-MODIFIED:20220220T175515Z
UID:5039-1643673600-1646956799@workinghorsecentral.com
SUMMARY:First Quarter Virtual Competition
DESCRIPTION:
URL:https://workinghorsecentral.com/event/first-quarter-virtual-competition/
CATEGORIES:Virtual Events
ATTACH;FMTTYPE=image/jpeg:https://workinghorsecentral.com/wp-content/uploads/2021/12/malgorzata-bujalska-L0k69RU-mTI-unsplash-1.jpg
ORGANIZER;CN="TNT Quarter Horses LLC.":MAILTO:tntfarmsqtrhorses@yahoo.com
END:VEVENT
BEGIN:VEVENT
DTSTART;VALUE=DATE:20220131
DTEND;VALUE=DATE:20220201
DTSTAMP:20260421T143224
CREATED:20220116T224552Z
LAST-MODIFIED:20220125T063214Z
UID:5514-1643587200-1643673599@workinghorsecentral.com
SUMMARY:First Quarter Virtual Competition Entries Close
DESCRIPTION:
URL:https://workinghorsecentral.com/event/first-quarter-virtual-competition-entries-close/
CATEGORIES:Virtual Events
ATTACH;FMTTYPE=image/jpeg:https://workinghorsecentral.com/wp-content/uploads/2021/12/malgorzata-bujalska-L0k69RU-mTI-unsplash-1.jpg
ORGANIZER;CN="TNT Quarter Horses LLC.":MAILTO:tntfarmsqtrhorses@yahoo.com
END:VEVENT
BEGIN:VEVENT
DTSTART;VALUE=DATE:20220115
DTEND;VALUE=DATE:20220116
DTSTAMP:20260421T143224
CREATED:20220116T012927Z
LAST-MODIFIED:20220125T063056Z
UID:5450-1642204800-1642291199@workinghorsecentral.com
SUMMARY:First Quarter Virtual Competition Entries Open
DESCRIPTION:
URL:https://workinghorsecentral.com/event/first-quarter-virtual-competition-entries-open/
CATEGORIES:Virtual Events
ATTACH;FMTTYPE=image/jpeg:https://workinghorsecentral.com/wp-content/uploads/2021/12/malgorzata-bujalska-L0k69RU-mTI-unsplash-1.jpg
ORGANIZER;CN="TNT Quarter Horses LLC.":MAILTO:tntfarmsqtrhorses@yahoo.com
END:VEVENT
END:VCALENDAR