BEGIN:VCALENDAR
VERSION:2.0
PRODID:-//Working Horse Central - ECPv6.15.20//NONSGML v1.0//EN
CALSCALE:GREGORIAN
METHOD:PUBLISH
X-WR-CALNAME:Working Horse Central
X-ORIGINAL-URL:https://workinghorsecentral.com
X-WR-CALDESC:Events for Working Horse Central
REFRESH-INTERVAL;VALUE=DURATION:PT1H
X-Robots-Tag:noindex
X-PUBLISHED-TTL:PT1H
BEGIN:VTIMEZONE
TZID:America/Chicago
BEGIN:DAYLIGHT
TZOFFSETFROM:-0600
TZOFFSETTO:-0500
TZNAME:CDT
DTSTART:20210314T080000
END:DAYLIGHT
BEGIN:STANDARD
TZOFFSETFROM:-0500
TZOFFSETTO:-0600
TZNAME:CST
DTSTART:20211107T070000
END:STANDARD
BEGIN:DAYLIGHT
TZOFFSETFROM:-0600
TZOFFSETTO:-0500
TZNAME:CDT
DTSTART:20220313T080000
END:DAYLIGHT
BEGIN:STANDARD
TZOFFSETFROM:-0500
TZOFFSETTO:-0600
TZNAME:CST
DTSTART:20221106T070000
END:STANDARD
BEGIN:DAYLIGHT
TZOFFSETFROM:-0600
TZOFFSETTO:-0500
TZNAME:CDT
DTSTART:20230312T080000
END:DAYLIGHT
BEGIN:STANDARD
TZOFFSETFROM:-0500
TZOFFSETTO:-0600
TZNAME:CST
DTSTART:20231105T070000
END:STANDARD
BEGIN:DAYLIGHT
TZOFFSETFROM:-0600
TZOFFSETTO:-0500
TZNAME:CDT
DTSTART:20240310T080000
END:DAYLIGHT
BEGIN:STANDARD
TZOFFSETFROM:-0500
TZOFFSETTO:-0600
TZNAME:CST
DTSTART:20241103T070000
END:STANDARD
BEGIN:DAYLIGHT
TZOFFSETFROM:-0600
TZOFFSETTO:-0500
TZNAME:CDT
DTSTART:20250309T080000
END:DAYLIGHT
BEGIN:STANDARD
TZOFFSETFROM:-0500
TZOFFSETTO:-0600
TZNAME:CST
DTSTART:20251102T070000
END:STANDARD
BEGIN:DAYLIGHT
TZOFFSETFROM:-0600
TZOFFSETTO:-0500
TZNAME:CDT
DTSTART:20260308T080000
END:DAYLIGHT
BEGIN:STANDARD
TZOFFSETFROM:-0500
TZOFFSETTO:-0600
TZNAME:CST
DTSTART:20261101T070000
END:STANDARD
END:VTIMEZONE
BEGIN:VEVENT
DTSTART;VALUE=DATE:20250415
DTEND;VALUE=DATE:20250416
DTSTAMP:20260421T084525
CREATED:20250103T172729Z
LAST-MODIFIED:20250103T172729Z
UID:6944-1744675200-1744761599@workinghorsecentral.com
SUMMARY:Second Quarter Virtual Competition - Entries Open
DESCRIPTION:
URL:https://workinghorsecentral.com/event/second-quarter-virtual-competition-entries-open-4/
CATEGORIES:Virtual Events
ATTACH;FMTTYPE=image/jpeg:https://workinghorsecentral.com/wp-content/uploads/2021/12/malgorzata-bujalska-L0k69RU-mTI-unsplash-1.jpg
ORGANIZER;CN="TNT Quarter Horses LLC.":MAILTO:tntfarmsqtrhorses@yahoo.com
END:VEVENT
BEGIN:VEVENT
DTSTART;VALUE=DATE:20250201
DTEND;VALUE=DATE:20250301
DTSTAMP:20260421T084525
CREATED:20250103T164618Z
LAST-MODIFIED:20250103T164712Z
UID:6921-1738368000-1740787199@workinghorsecentral.com
SUMMARY:First Quarter Virtual Competition
DESCRIPTION:
URL:https://workinghorsecentral.com/event/first-quarter-virtual-competition-4/
CATEGORIES:Virtual Events
ATTACH;FMTTYPE=image/jpeg:https://workinghorsecentral.com/wp-content/uploads/2021/12/malgorzata-bujalska-L0k69RU-mTI-unsplash-1.jpg
ORGANIZER;CN="TNT Quarter Horses LLC.":MAILTO:tntfarmsqtrhorses@yahoo.com
END:VEVENT
BEGIN:VEVENT
DTSTART;VALUE=DATE:20250131
DTEND;VALUE=DATE:20250201
DTSTAMP:20260421T084525
CREATED:20250103T165138Z
LAST-MODIFIED:20250103T165138Z
UID:6936-1738281600-1738367999@workinghorsecentral.com
SUMMARY:First Quarter Virtual Competition Entries Close
DESCRIPTION:
URL:https://workinghorsecentral.com/event/first-quarter-virtual-competition-entries-close-4/
CATEGORIES:Virtual Events
ATTACH;FMTTYPE=image/jpeg:https://workinghorsecentral.com/wp-content/uploads/2021/12/malgorzata-bujalska-L0k69RU-mTI-unsplash-1.jpg
ORGANIZER;CN="TNT Quarter Horses LLC.":MAILTO:tntfarmsqtrhorses@yahoo.com
END:VEVENT
BEGIN:VEVENT
DTSTART;VALUE=DATE:20250115
DTEND;VALUE=DATE:20250116
DTSTAMP:20260421T084525
CREATED:20250103T165047Z
LAST-MODIFIED:20250103T165047Z
UID:6934-1736899200-1736985599@workinghorsecentral.com
SUMMARY:First Quarter Virtual Competition Entries Open
DESCRIPTION:
URL:https://workinghorsecentral.com/event/first-quarter-virtual-competition-entries-open-4/
CATEGORIES:Virtual Events
ATTACH;FMTTYPE=image/jpeg:https://workinghorsecentral.com/wp-content/uploads/2021/12/malgorzata-bujalska-L0k69RU-mTI-unsplash-1.jpg
ORGANIZER;CN="TNT Quarter Horses LLC.":MAILTO:tntfarmsqtrhorses@yahoo.com
END:VEVENT
BEGIN:VEVENT
DTSTART;VALUE=DATE:20241101
DTEND;VALUE=DATE:20241201
DTSTAMP:20260421T084525
CREATED:20231218T202854Z
LAST-MODIFIED:20231218T202854Z
UID:6745-1730419200-1733011199@workinghorsecentral.com
SUMMARY:Fourth Quarter Virtual Competition
DESCRIPTION:
URL:https://workinghorsecentral.com/event/fourth-quarter-virtual-competition-3/
CATEGORIES:Virtual Events
ATTACH;FMTTYPE=image/jpeg:https://workinghorsecentral.com/wp-content/uploads/2021/12/malgorzata-bujalska-L0k69RU-mTI-unsplash-1.jpg
ORGANIZER;CN="TNT Quarter Horses LLC.":MAILTO:tntfarmsqtrhorses@yahoo.com
END:VEVENT
BEGIN:VEVENT
DTSTART;VALUE=DATE:20241031
DTEND;VALUE=DATE:20241101
DTSTAMP:20260421T084525
CREATED:20231218T203030Z
LAST-MODIFIED:20231218T203030Z
UID:6758-1730332800-1730419199@workinghorsecentral.com
SUMMARY:Fourth Quarter Virtual Competition - Entries Close
DESCRIPTION:
URL:https://workinghorsecentral.com/event/fourth-quarter-virtual-competition-entries-close-3/
CATEGORIES:Virtual Events
ATTACH;FMTTYPE=image/jpeg:https://workinghorsecentral.com/wp-content/uploads/2021/12/malgorzata-bujalska-L0k69RU-mTI-unsplash-1.jpg
ORGANIZER;CN="TNT Quarter Horses LLC.":MAILTO:tntfarmsqtrhorses@yahoo.com
END:VEVENT
BEGIN:VEVENT
DTSTART;VALUE=DATE:20241015
DTEND;VALUE=DATE:20241016
DTSTAMP:20260421T084525
CREATED:20231218T203001Z
LAST-MODIFIED:20231218T203001Z
UID:6756-1728950400-1729036799@workinghorsecentral.com
SUMMARY:Fourth Quarter Virtual Competition - Entries Open
DESCRIPTION:
URL:https://workinghorsecentral.com/event/fourth-quarter-virtual-competition-entries-open-2/
CATEGORIES:Virtual Events
ATTACH;FMTTYPE=image/jpeg:https://workinghorsecentral.com/wp-content/uploads/2021/12/malgorzata-bujalska-L0k69RU-mTI-unsplash-1.jpg
ORGANIZER;CN="TNT Quarter Horses LLC.":MAILTO:tntfarmsqtrhorses@yahoo.com
END:VEVENT
BEGIN:VEVENT
DTSTART;VALUE=DATE:20240801
DTEND;VALUE=DATE:20240901
DTSTAMP:20260421T084525
CREATED:20231218T191929Z
LAST-MODIFIED:20231218T201115Z
UID:6736-1722470400-1725148799@workinghorsecentral.com
SUMMARY:Third Quarter Virtual Competition
DESCRIPTION:
URL:https://workinghorsecentral.com/event/third-quarter-virtual-competition-3/
CATEGORIES:Virtual Events
ATTACH;FMTTYPE=image/jpeg:https://workinghorsecentral.com/wp-content/uploads/2021/12/malgorzata-bujalska-L0k69RU-mTI-unsplash-1.jpg
ORGANIZER;CN="TNT Quarter Horses LLC.":MAILTO:tntfarmsqtrhorses@yahoo.com
END:VEVENT
BEGIN:VEVENT
DTSTART;VALUE=DATE:20240731
DTEND;VALUE=DATE:20240801
DTSTAMP:20260421T084525
CREATED:20231218T194011Z
LAST-MODIFIED:20231218T201102Z
UID:6743-1722384000-1722470399@workinghorsecentral.com
SUMMARY:Third Quarter Virtual Competition - Entries Close
DESCRIPTION:
URL:https://workinghorsecentral.com/event/third-quarter-virtual-competition-entries-close-3/
CATEGORIES:Virtual Events
ATTACH;FMTTYPE=image/jpeg:https://workinghorsecentral.com/wp-content/uploads/2021/12/malgorzata-bujalska-L0k69RU-mTI-unsplash-1.jpg
ORGANIZER;CN="TNT Quarter Horses LLC.":MAILTO:tntfarmsqtrhorses@yahoo.com
END:VEVENT
BEGIN:VEVENT
DTSTART;VALUE=DATE:20240715
DTEND;VALUE=DATE:20240716
DTSTAMP:20260421T084525
CREATED:20231218T193809Z
LAST-MODIFIED:20231218T201053Z
UID:6741-1721001600-1721087999@workinghorsecentral.com
SUMMARY:Third Quarter Virtual Competition - Entries Open
DESCRIPTION:
URL:https://workinghorsecentral.com/event/third-quarter-virtual-competition-entries-open-3/
CATEGORIES:Virtual Events
ATTACH;FMTTYPE=image/jpeg:https://workinghorsecentral.com/wp-content/uploads/2021/12/malgorzata-bujalska-L0k69RU-mTI-unsplash-1.jpg
ORGANIZER;CN="TNT Quarter Horses LLC.":MAILTO:tntfarmsqtrhorses@yahoo.com
END:VEVENT
BEGIN:VEVENT
DTSTART;VALUE=DATE:20240501
DTEND;VALUE=DATE:20240601
DTSTAMP:20260421T084525
CREATED:20231218T184247Z
LAST-MODIFIED:20231218T192128Z
UID:6722-1714521600-1717199999@workinghorsecentral.com
SUMMARY:Second Quarter Virtual Competition
DESCRIPTION:
URL:https://workinghorsecentral.com/event/second-quarter-virtual-competition-3/
CATEGORIES:Virtual Events
ATTACH;FMTTYPE=image/jpeg:https://workinghorsecentral.com/wp-content/uploads/2021/12/malgorzata-bujalska-L0k69RU-mTI-unsplash-1.jpg
ORGANIZER;CN="TNT Quarter Horses LLC.":MAILTO:tntfarmsqtrhorses@yahoo.com
END:VEVENT
BEGIN:VEVENT
DTSTART;VALUE=DATE:20240430
DTEND;VALUE=DATE:20240501
DTSTAMP:20260421T084525
CREATED:20231218T184515Z
LAST-MODIFIED:20231218T192100Z
UID:6729-1714435200-1714521599@workinghorsecentral.com
SUMMARY:Second Quarter Virtual Competition - Entries Close
DESCRIPTION:
URL:https://workinghorsecentral.com/event/second-quarter-virtual-competition-entries-close-3/
CATEGORIES:Virtual Events
ATTACH;FMTTYPE=image/jpeg:https://workinghorsecentral.com/wp-content/uploads/2021/12/malgorzata-bujalska-L0k69RU-mTI-unsplash-1.jpg
ORGANIZER;CN="TNT Quarter Horses LLC.":MAILTO:tntfarmsqtrhorses@yahoo.com
END:VEVENT
BEGIN:VEVENT
DTSTART;VALUE=DATE:20240415
DTEND;VALUE=DATE:20240416
DTSTAMP:20260421T084525
CREATED:20231218T184434Z
LAST-MODIFIED:20231218T192034Z
UID:6727-1713139200-1713225599@workinghorsecentral.com
SUMMARY:Second Quarter Virtual Competition - Entries Open
DESCRIPTION:
URL:https://workinghorsecentral.com/event/second-quarter-virtual-competition-entries-open-3/
CATEGORIES:Virtual Events
ATTACH;FMTTYPE=image/jpeg:https://workinghorsecentral.com/wp-content/uploads/2021/12/malgorzata-bujalska-L0k69RU-mTI-unsplash-1.jpg
ORGANIZER;CN="TNT Quarter Horses LLC.":MAILTO:tntfarmsqtrhorses@yahoo.com
END:VEVENT
BEGIN:VEVENT
DTSTART;VALUE=DATE:20240201
DTEND;VALUE=DATE:20240301
DTSTAMP:20260421T084525
CREATED:20231218T180958Z
LAST-MODIFIED:20231218T184348Z
UID:6702-1706745600-1709251199@workinghorsecentral.com
SUMMARY:First Quarter Virtual Competition
DESCRIPTION:
URL:https://workinghorsecentral.com/event/first-quarter-virtual-competition-2/
CATEGORIES:Virtual Events
ATTACH;FMTTYPE=image/jpeg:https://workinghorsecentral.com/wp-content/uploads/2021/12/malgorzata-bujalska-L0k69RU-mTI-unsplash-1.jpg
ORGANIZER;CN="TNT Quarter Horses LLC.":MAILTO:tntfarmsqtrhorses@yahoo.com
END:VEVENT
BEGIN:VEVENT
DTSTART;VALUE=DATE:20240131
DTEND;VALUE=DATE:20240201
DTSTAMP:20260421T084525
CREATED:20231218T182510Z
LAST-MODIFIED:20231218T184329Z
UID:6716-1706659200-1706745599@workinghorsecentral.com
SUMMARY:First Quarter Virtual Competition - Entries Close
DESCRIPTION:
URL:https://workinghorsecentral.com/event/first-quarter-virtual-competition-entries-close-3/
CATEGORIES:Virtual Events
ATTACH;FMTTYPE=image/jpeg:https://workinghorsecentral.com/wp-content/uploads/2021/12/malgorzata-bujalska-L0k69RU-mTI-unsplash-1.jpg
ORGANIZER;CN="TNT Quarter Horses LLC.":MAILTO:tntfarmsqtrhorses@yahoo.com
END:VEVENT
BEGIN:VEVENT
DTSTART;VALUE=DATE:20240115
DTEND;VALUE=DATE:20240116
DTSTAMP:20260421T084525
CREATED:20231218T182422Z
LAST-MODIFIED:20231218T184315Z
UID:6714-1705276800-1705363199@workinghorsecentral.com
SUMMARY:First Quarter Virtual Competition - Entries Open
DESCRIPTION:
URL:https://workinghorsecentral.com/event/first-quarter-virtual-competition-entries-open-3/
CATEGORIES:Virtual Events
ATTACH;FMTTYPE=image/jpeg:https://workinghorsecentral.com/wp-content/uploads/2021/12/malgorzata-bujalska-L0k69RU-mTI-unsplash-1.jpg
ORGANIZER;CN="TNT Quarter Horses LLC.":MAILTO:tntfarmsqtrhorses@yahoo.com
END:VEVENT
BEGIN:VEVENT
DTSTART;VALUE=DATE:20231101
DTEND;VALUE=DATE:20231201
DTSTAMP:20260421T084525
CREATED:20221224T022546Z
LAST-MODIFIED:20221224T022722Z
UID:6471-1698796800-1701388799@workinghorsecentral.com
SUMMARY:Fourth Quarter Virtual Competition
DESCRIPTION:
URL:https://workinghorsecentral.com/event/fourth-quarter-virtual-competition-2/
CATEGORIES:Virtual Events
ATTACH;FMTTYPE=image/jpeg:https://workinghorsecentral.com/wp-content/uploads/2021/12/malgorzata-bujalska-L0k69RU-mTI-unsplash-1.jpg
ORGANIZER;CN="TNT Quarter Horses LLC.":MAILTO:tntfarmsqtrhorses@yahoo.com
END:VEVENT
BEGIN:VEVENT
DTSTART;VALUE=DATE:20231031
DTEND;VALUE=DATE:20231101
DTSTAMP:20260421T084525
CREATED:20221224T023732Z
LAST-MODIFIED:20221224T023732Z
UID:6476-1698710400-1698796799@workinghorsecentral.com
SUMMARY:Fourth Quarter Virtual Competition Entries Close
DESCRIPTION:
URL:https://workinghorsecentral.com/event/fourth-quarter-virtual-competition-entries-close-2/
CATEGORIES:Virtual Events
ATTACH;FMTTYPE=image/jpeg:https://workinghorsecentral.com/wp-content/uploads/2021/12/malgorzata-bujalska-L0k69RU-mTI-unsplash-1.jpg
ORGANIZER;CN="TNT Quarter Horses LLC.":MAILTO:tntfarmsqtrhorses@yahoo.com
END:VEVENT
BEGIN:VEVENT
DTSTART;VALUE=DATE:20231015
DTEND;VALUE=DATE:20231016
DTSTAMP:20260421T084525
CREATED:20221224T023621Z
LAST-MODIFIED:20221224T023621Z
UID:6475-1697328000-1697414399@workinghorsecentral.com
SUMMARY:Fourth Quarter Virtual Competition Entries Open
DESCRIPTION:
URL:https://workinghorsecentral.com/event/fourth-quarter-virtual-competition-entries-open/
CATEGORIES:Virtual Events
ATTACH;FMTTYPE=image/jpeg:https://workinghorsecentral.com/wp-content/uploads/2021/12/malgorzata-bujalska-L0k69RU-mTI-unsplash-1.jpg
ORGANIZER;CN="TNT Quarter Horses LLC.":MAILTO:tntfarmsqtrhorses@yahoo.com
END:VEVENT
BEGIN:VEVENT
DTSTART;VALUE=DATE:20230801
DTEND;VALUE=DATE:20230901
DTSTAMP:20260421T084525
CREATED:20221224T020813Z
LAST-MODIFIED:20221224T020953Z
UID:6459-1690848000-1693526399@workinghorsecentral.com
SUMMARY:Third Quarter Virtual Competition
DESCRIPTION:
URL:https://workinghorsecentral.com/event/third-quarter-virtual-competition-2/
CATEGORIES:Virtual Events
ATTACH;FMTTYPE=image/jpeg:https://workinghorsecentral.com/wp-content/uploads/2021/12/malgorzata-bujalska-L0k69RU-mTI-unsplash-1.jpg
ORGANIZER;CN="TNT Quarter Horses LLC.":MAILTO:tntfarmsqtrhorses@yahoo.com
END:VEVENT
BEGIN:VEVENT
DTSTART;VALUE=DATE:20230731
DTEND;VALUE=DATE:20230801
DTSTAMP:20260421T084525
CREATED:20221224T021923Z
LAST-MODIFIED:20221224T021923Z
UID:6464-1690761600-1690847999@workinghorsecentral.com
SUMMARY:Third Quarter Virtual Competition Entries Close
DESCRIPTION:
URL:https://workinghorsecentral.com/event/third-quarter-virtual-competition-entries-close-2/
CATEGORIES:Virtual Events
ATTACH;FMTTYPE=image/jpeg:https://workinghorsecentral.com/wp-content/uploads/2021/12/malgorzata-bujalska-L0k69RU-mTI-unsplash-1.jpg
ORGANIZER;CN="TNT Quarter Horses LLC.":MAILTO:tntfarmsqtrhorses@yahoo.com
END:VEVENT
BEGIN:VEVENT
DTSTART;VALUE=DATE:20230715
DTEND;VALUE=DATE:20230716
DTSTAMP:20260421T084525
CREATED:20221224T021831Z
LAST-MODIFIED:20221224T021831Z
UID:6463-1689379200-1689465599@workinghorsecentral.com
SUMMARY:Third Quarter Virtual Competition Entries Open
DESCRIPTION:
URL:https://workinghorsecentral.com/event/third-quarter-virtual-competition-entries-open-2/
CATEGORIES:Virtual Events
ATTACH;FMTTYPE=image/jpeg:https://workinghorsecentral.com/wp-content/uploads/2021/12/malgorzata-bujalska-L0k69RU-mTI-unsplash-1.jpg
ORGANIZER;CN="TNT Quarter Horses LLC.":MAILTO:tntfarmsqtrhorses@yahoo.com
END:VEVENT
BEGIN:VEVENT
DTSTART;VALUE=DATE:20230501
DTEND;VALUE=DATE:20230601
DTSTAMP:20260421T084525
CREATED:20221224T004959Z
LAST-MODIFIED:20221224T005515Z
UID:6443-1682899200-1685577599@workinghorsecentral.com
SUMMARY:Second Quarter Virtual Competition
DESCRIPTION:
URL:https://workinghorsecentral.com/event/second-quarter-virtual-competition-2/
CATEGORIES:Virtual Events
ATTACH;FMTTYPE=image/jpeg:https://workinghorsecentral.com/wp-content/uploads/2021/12/malgorzata-bujalska-L0k69RU-mTI-unsplash-1.jpg
ORGANIZER;CN="TNT Quarter Horses LLC.":MAILTO:tntfarmsqtrhorses@yahoo.com
END:VEVENT
BEGIN:VEVENT
DTSTART;VALUE=DATE:20230430
DTEND;VALUE=DATE:20230501
DTSTAMP:20260421T084525
CREATED:20221224T011842Z
LAST-MODIFIED:20221224T012509Z
UID:6457-1682812800-1682899199@workinghorsecentral.com
SUMMARY:Second Quarter Virtual Competition Entries Close
DESCRIPTION:
URL:https://workinghorsecentral.com/event/second-quarter-virtual-competition-entries-close-2/
CATEGORIES:Virtual Events
ATTACH;FMTTYPE=image/jpeg:https://workinghorsecentral.com/wp-content/uploads/2021/12/malgorzata-bujalska-L0k69RU-mTI-unsplash-1.jpg
ORGANIZER;CN="TNT Quarter Horses LLC.":MAILTO:tntfarmsqtrhorses@yahoo.com
END:VEVENT
BEGIN:VEVENT
DTSTART;VALUE=DATE:20230415
DTEND;VALUE=DATE:20230416
DTSTAMP:20260421T084525
CREATED:20221224T011717Z
LAST-MODIFIED:20221224T011717Z
UID:6455-1681516800-1681603199@workinghorsecentral.com
SUMMARY:Second Quarter Virtual Competition Entries Open
DESCRIPTION:
URL:https://workinghorsecentral.com/event/second-quarter-virtual-competition-entries-open-2/
CATEGORIES:Virtual Events
ATTACH;FMTTYPE=image/jpeg:https://workinghorsecentral.com/wp-content/uploads/2021/12/malgorzata-bujalska-L0k69RU-mTI-unsplash-1.jpg
ORGANIZER;CN="TNT Quarter Horses LLC.":MAILTO:tntfarmsqtrhorses@yahoo.com
END:VEVENT
BEGIN:VEVENT
DTSTART;VALUE=DATE:20230201
DTEND;VALUE=DATE:20230301
DTSTAMP:20260421T084525
CREATED:20221223T235304Z
LAST-MODIFIED:20221224T005020Z
UID:6426-1675209600-1677628799@workinghorsecentral.com
SUMMARY:First Quarter Virtual Competition
DESCRIPTION:
URL:https://workinghorsecentral.com/event/first-quarter-virtual-competition-3/
CATEGORIES:Virtual Events
ATTACH;FMTTYPE=image/jpeg:https://workinghorsecentral.com/wp-content/uploads/2021/12/malgorzata-bujalska-L0k69RU-mTI-unsplash-1.jpg
ORGANIZER;CN="TNT Quarter Horses LLC.":MAILTO:tntfarmsqtrhorses@yahoo.com
END:VEVENT
BEGIN:VEVENT
DTSTART;VALUE=DATE:20230131
DTEND;VALUE=DATE:20230201
DTSTAMP:20260421T084525
CREATED:20221224T003833Z
LAST-MODIFIED:20221224T005239Z
UID:6438-1675123200-1675209599@workinghorsecentral.com
SUMMARY:First Quarter Virtual Competition Entries Close
DESCRIPTION:
URL:https://workinghorsecentral.com/event/first-quarter-virtual-competition-entries-close-2/
CATEGORIES:Virtual Events
ORGANIZER;CN="TNT Quarter Horses LLC.":MAILTO:tntfarmsqtrhorses@yahoo.com
END:VEVENT
BEGIN:VEVENT
DTSTART;VALUE=DATE:20230115
DTEND;VALUE=DATE:20230116
DTSTAMP:20260421T084525
CREATED:20221224T003522Z
LAST-MODIFIED:20221224T005107Z
UID:6436-1673740800-1673827199@workinghorsecentral.com
SUMMARY:First Quarter Virtual Competition Entries Open
DESCRIPTION:
URL:https://workinghorsecentral.com/event/first-quarter-virtual-competition-entries-open-2/
CATEGORIES:Virtual Events
ATTACH;FMTTYPE=image/jpeg:https://workinghorsecentral.com/wp-content/uploads/2021/12/malgorzata-bujalska-L0k69RU-mTI-unsplash-1.jpg
ORGANIZER;CN="TNT Quarter Horses LLC.":MAILTO:tntfarmsqtrhorses@yahoo.com
END:VEVENT
BEGIN:VEVENT
DTSTART;TZID=America/Chicago:20221227T190000
DTEND;TZID=America/Chicago:20221227T200000
DTSTAMP:20260421T084525
CREATED:20220606T185832Z
LAST-MODIFIED:20220606T190531Z
UID:6329-1672167600-1672171200@workinghorsecentral.com
SUMMARY:Education Module
DESCRIPTION:
URL:https://workinghorsecentral.com/event/education-module-13/
CATEGORIES:Virtual Events
ATTACH;FMTTYPE=image/jpeg:https://workinghorsecentral.com/wp-content/uploads/2022/01/jeremy-bishop-wn4p4Z6lujs-unsplash-scaled.jpg
END:VEVENT
BEGIN:VEVENT
DTSTART;TZID=America/Chicago:20221129T190000
DTEND;TZID=America/Chicago:20221129T200000
DTSTAMP:20260421T084525
CREATED:20220606T185828Z
LAST-MODIFIED:20220606T190411Z
UID:6328-1669748400-1669752000@workinghorsecentral.com
SUMMARY:Education Module
DESCRIPTION:
URL:https://workinghorsecentral.com/event/education-module-12/
CATEGORIES:Virtual Events
ATTACH;FMTTYPE=image/jpeg:https://workinghorsecentral.com/wp-content/uploads/2022/01/jeremy-bishop-wn4p4Z6lujs-unsplash-scaled.jpg
END:VEVENT
END:VCALENDAR