BEGIN:VCALENDAR
VERSION:2.0
PRODID:-//Working Horse Central - ECPv6.15.20//NONSGML v1.0//EN
CALSCALE:GREGORIAN
METHOD:PUBLISH
X-ORIGINAL-URL:https://workinghorsecentral.com
X-WR-CALDESC:Events for Working Horse Central
REFRESH-INTERVAL;VALUE=DURATION:PT1H
X-Robots-Tag:noindex
X-PUBLISHED-TTL:PT1H
BEGIN:VTIMEZONE
TZID:America/Chicago
BEGIN:DAYLIGHT
TZOFFSETFROM:-0600
TZOFFSETTO:-0500
TZNAME:CDT
DTSTART:20210314T080000
END:DAYLIGHT
BEGIN:STANDARD
TZOFFSETFROM:-0500
TZOFFSETTO:-0600
TZNAME:CST
DTSTART:20211107T070000
END:STANDARD
BEGIN:DAYLIGHT
TZOFFSETFROM:-0600
TZOFFSETTO:-0500
TZNAME:CDT
DTSTART:20220313T080000
END:DAYLIGHT
BEGIN:STANDARD
TZOFFSETFROM:-0500
TZOFFSETTO:-0600
TZNAME:CST
DTSTART:20221106T070000
END:STANDARD
BEGIN:DAYLIGHT
TZOFFSETFROM:-0600
TZOFFSETTO:-0500
TZNAME:CDT
DTSTART:20230312T080000
END:DAYLIGHT
BEGIN:STANDARD
TZOFFSETFROM:-0500
TZOFFSETTO:-0600
TZNAME:CST
DTSTART:20231105T070000
END:STANDARD
END:VTIMEZONE
BEGIN:VEVENT
DTSTART;VALUE=DATE:20221202
DTEND;VALUE=DATE:20221204
DTSTAMP:20260421T061652
CREATED:20220926T215240Z
LAST-MODIFIED:20220926T221452Z
UID:6388-1669939200-1670111999@workinghorsecentral.com
SUMMARY:Working Horsemanship Clinic with Tarrin Warren
DESCRIPTION:
URL:https://workinghorsecentral.com/event/working-horsemanship-clinic-with-tarrin-warren-10/
LOCATION:Beau Soleil Farm\, 1105 Stoneleigh Road\, Comfort\, TX\, 78013
CATEGORIES:Clinics & Seminars,Southern Great Plains (SGP)
ATTACH;FMTTYPE=image/jpeg:https://workinghorsecentral.com/wp-content/uploads/2022/03/IMG_7289.jpg
ORGANIZER;CN="Beau Soleil Farm":MAILTO:beausoleilfarmgirl@outlook.com
END:VEVENT
BEGIN:VEVENT
DTSTART;VALUE=DATE:20221203
DTEND;VALUE=DATE:20221204
DTSTAMP:20260421T061652
CREATED:20220406T161928Z
LAST-MODIFIED:20220406T162009Z
UID:5974-1670025600-1670111999@workinghorsecentral.com
SUMMARY:Chappell Hill Winter Classic Entries Close
DESCRIPTION:
URL:https://workinghorsecentral.com/event/chappell-hill-winter-classic-entries-close/
LOCATION:Watts Way Arena\, 11911 Montieth Lane\, Washington\, TX\, 77880\, United States
CATEGORIES:Southern Great Plains (SGP)
ATTACH;FMTTYPE=image/jpeg:https://workinghorsecentral.com/wp-content/uploads/2022/04/sheila-swayze-hKFE6lYZps0-unsplash.jpg
ORGANIZER;CN="TNT Quarter Horses LLC.":MAILTO:tntfarmsqtrhorses@yahoo.com
END:VEVENT
BEGIN:VEVENT
DTSTART;TZID=America/Chicago:20221210T090000
DTEND;TZID=America/Chicago:20221210T210000
DTSTAMP:20260421T061652
CREATED:20220406T161215Z
LAST-MODIFIED:20220406T161734Z
UID:5967-1670662800-1670706000@workinghorsecentral.com
SUMMARY:Chappell Hill Winter Classic
DESCRIPTION:
URL:https://workinghorsecentral.com/event/chappell-hill-winter-classic/
LOCATION:Watts Way Arena\, 11911 Montieth Lane\, Washington\, TX\, 77880\, United States
CATEGORIES:Southern Great Plains (SGP)
ATTACH;FMTTYPE=image/jpeg:https://workinghorsecentral.com/wp-content/uploads/2022/04/sheila-swayze-hKFE6lYZps0-unsplash.jpg
ORGANIZER;CN="TNT Quarter Horses LLC.":MAILTO:tntfarmsqtrhorses@yahoo.com
END:VEVENT
END:VCALENDAR