BEGIN:VCALENDAR
VERSION:2.0
PRODID:-//Working Horse Central - ECPv6.15.20//NONSGML v1.0//EN
CALSCALE:GREGORIAN
METHOD:PUBLISH
X-WR-CALNAME:Working Horse Central
X-ORIGINAL-URL:https://workinghorsecentral.com
X-WR-CALDESC:Events for Working Horse Central
REFRESH-INTERVAL;VALUE=DURATION:PT1H
X-Robots-Tag:noindex
X-PUBLISHED-TTL:PT1H
BEGIN:VTIMEZONE
TZID:America/Chicago
BEGIN:DAYLIGHT
TZOFFSETFROM:-0600
TZOFFSETTO:-0500
TZNAME:CDT
DTSTART:20210314T080000
END:DAYLIGHT
BEGIN:STANDARD
TZOFFSETFROM:-0500
TZOFFSETTO:-0600
TZNAME:CST
DTSTART:20211107T070000
END:STANDARD
BEGIN:DAYLIGHT
TZOFFSETFROM:-0600
TZOFFSETTO:-0500
TZNAME:CDT
DTSTART:20220313T080000
END:DAYLIGHT
BEGIN:STANDARD
TZOFFSETFROM:-0500
TZOFFSETTO:-0600
TZNAME:CST
DTSTART:20221106T070000
END:STANDARD
BEGIN:DAYLIGHT
TZOFFSETFROM:-0600
TZOFFSETTO:-0500
TZNAME:CDT
DTSTART:20230312T080000
END:DAYLIGHT
BEGIN:STANDARD
TZOFFSETFROM:-0500
TZOFFSETTO:-0600
TZNAME:CST
DTSTART:20231105T070000
END:STANDARD
BEGIN:DAYLIGHT
TZOFFSETFROM:-0600
TZOFFSETTO:-0500
TZNAME:CDT
DTSTART:20240310T080000
END:DAYLIGHT
BEGIN:STANDARD
TZOFFSETFROM:-0500
TZOFFSETTO:-0600
TZNAME:CST
DTSTART:20241103T070000
END:STANDARD
END:VTIMEZONE
BEGIN:VEVENT
DTSTART;VALUE=DATE:20231027
DTEND;VALUE=DATE:20231029
DTSTAMP:20260421T034506
CREATED:20230214T022959Z
LAST-MODIFIED:20230214T022959Z
UID:6573-1698364800-1698537599@workinghorsecentral.com
SUMMARY:Working Horsemanship Clinic with Tarrin Warren
DESCRIPTION:
URL:https://workinghorsecentral.com/event/working-horsemanship-clinic-with-tarrin-warren-20/
LOCATION:Beau Soleil Farm\, 1105 Stoneleigh Road\, Comfort\, TX\, 78013
CATEGORIES:Clinics & Seminars,Southern Great Plains (SGP)
ATTACH;FMTTYPE=image/jpeg:https://workinghorsecentral.com/wp-content/uploads/2022/03/IMG_7289.jpg
ORGANIZER;CN="TNT Quarter Horses LLC.":MAILTO:tntfarmsqtrhorses@yahoo.com
END:VEVENT
BEGIN:VEVENT
DTSTART;TZID=America/Chicago:20231007T090000
DTEND;TZID=America/Chicago:20231007T170000
DTSTAMP:20260421T034506
CREATED:20230214T022155Z
LAST-MODIFIED:20230214T022155Z
UID:6567-1696669200-1696698000@workinghorsecentral.com
SUMMARY:Working Horsemanship Clinic with Tarrin Warren
DESCRIPTION:
URL:https://workinghorsecentral.com/event/working-horsemanship-clinic-with-tarrin-warren-17/
LOCATION:TNT Quarter Horses\, 2468 Co Rd 346\, Milano\, TX\, 76556\, United States
CATEGORIES:Clinics & Seminars,Southern Great Plains (SGP)
ATTACH;FMTTYPE=image/jpeg:https://workinghorsecentral.com/wp-content/uploads/2022/03/IMG_7289.jpg
ORGANIZER;CN="TNT Quarter Horses LLC.":MAILTO:tntfarmsqtrhorses@yahoo.com
END:VEVENT
BEGIN:VEVENT
DTSTART;VALUE=DATE:20230916
DTEND;VALUE=DATE:20230918
DTSTAMP:20260421T034506
CREATED:20230213T231735Z
LAST-MODIFIED:20230213T231735Z
UID:6560-1694822400-1694995199@workinghorsecentral.com
SUMMARY:Working Horsemanship Clinic with Tarrin Warren
DESCRIPTION:
URL:https://workinghorsecentral.com/event/working-horsemanship-clinic-with-tarrin-warren-14/
LOCATION:Heritage Oak Stables\, 348 Lower Mason Creek Rd\, Bandera\, TX\, 78003\, United States
CATEGORIES:Clinics & Seminars,Southern Great Plains (SGP)
ATTACH;FMTTYPE=image/jpeg:https://workinghorsecentral.com/wp-content/uploads/2022/03/IMG_7289.jpg
ORGANIZER;CN="TNT Quarter Horses LLC.":MAILTO:tntfarmsqtrhorses@yahoo.com
END:VEVENT
BEGIN:VEVENT
DTSTART;VALUE=DATE:20230811
DTEND;VALUE=DATE:20230813
DTSTAMP:20260421T034506
CREATED:20230214T022509Z
LAST-MODIFIED:20230214T022658Z
UID:6569-1691712000-1691884799@workinghorsecentral.com
SUMMARY:Working Horsemanship Clinic with Tarrin Warren
DESCRIPTION:
URL:https://workinghorsecentral.com/event/working-horsemanship-clinic-with-tarrin-warren-18/
LOCATION:Beau Soleil Farm\, 1105 Stoneleigh Road\, Comfort\, TX\, 78013
CATEGORIES:Clinics & Seminars,Southern Great Plains (SGP)
ATTACH;FMTTYPE=image/jpeg:https://workinghorsecentral.com/wp-content/uploads/2022/03/IMG_7289.jpg
ORGANIZER;CN="TNT Quarter Horses LLC.":MAILTO:tntfarmsqtrhorses@yahoo.com
END:VEVENT
BEGIN:VEVENT
DTSTART;VALUE=DATE:20230708
DTEND;VALUE=DATE:20230710
DTSTAMP:20260421T034506
CREATED:20230213T230811Z
LAST-MODIFIED:20230213T230852Z
UID:6558-1688774400-1688947199@workinghorsecentral.com
SUMMARY:Working Horsemanship Clinic with Tarrin Warren
DESCRIPTION:
URL:https://workinghorsecentral.com/event/working-horsemanship-clinic-with-tarrin-warren-13/
LOCATION:Heritage Oak Stables\, 348 Lower Mason Creek Rd\, Bandera\, TX\, 78003\, United States
CATEGORIES:Clinics & Seminars,Southern Great Plains (SGP)
ATTACH;FMTTYPE=image/jpeg:https://workinghorsecentral.com/wp-content/uploads/2022/03/IMG_7289.jpg
ORGANIZER;CN="TNT Quarter Horses LLC.":MAILTO:tntfarmsqtrhorses@yahoo.com
END:VEVENT
BEGIN:VEVENT
DTSTART;VALUE=DATE:20230609
DTEND;VALUE=DATE:20230611
DTSTAMP:20260421T034506
CREATED:20230214T022736Z
LAST-MODIFIED:20230214T022736Z
UID:6571-1686268800-1686441599@workinghorsecentral.com
SUMMARY:Working Horsemanship Clinic with Tarrin Warren
DESCRIPTION:
URL:https://workinghorsecentral.com/event/working-horsemanship-clinic-with-tarrin-warren-19/
LOCATION:Beau Soleil Farm\, 1105 Stoneleigh Road\, Comfort\, TX\, 78013
CATEGORIES:Clinics & Seminars,Southern Great Plains (SGP)
ATTACH;FMTTYPE=image/jpeg:https://workinghorsecentral.com/wp-content/uploads/2022/03/IMG_7289.jpg
ORGANIZER;CN="TNT Quarter Horses LLC.":MAILTO:tntfarmsqtrhorses@yahoo.com
END:VEVENT
BEGIN:VEVENT
DTSTART;TZID=America/Chicago:20230429T090000
DTEND;TZID=America/Chicago:20230429T170000
DTSTAMP:20260421T034506
CREATED:20230214T021902Z
LAST-MODIFIED:20230214T021902Z
UID:6565-1682758800-1682787600@workinghorsecentral.com
SUMMARY:Working Horsemanship Clinic with Tarrin Warren
DESCRIPTION:
URL:https://workinghorsecentral.com/event/working-horsemanship-clinic-with-tarrin-warren-16/
LOCATION:TNT Quarter Horses\, 2468 Co Rd 346\, Milano\, TX\, 76556\, United States
CATEGORIES:Clinics & Seminars,Southern Great Plains (SGP)
ATTACH;FMTTYPE=image/jpeg:https://workinghorsecentral.com/wp-content/uploads/2022/03/IMG_7289.jpg
ORGANIZER;CN="TNT Quarter Horses LLC.":MAILTO:tntfarmsqtrhorses@yahoo.com
END:VEVENT
BEGIN:VEVENT
DTSTART;VALUE=DATE:20230407
DTEND;VALUE=DATE:20230409
DTSTAMP:20260421T034506
CREATED:20230130T192141Z
LAST-MODIFIED:20230130T192141Z
UID:6552-1680825600-1680998399@workinghorsecentral.com
SUMMARY:Working Horsemanship Clinic with Tarrin Warren
DESCRIPTION:
URL:https://workinghorsecentral.com/event/working-horsemanship-clinic-with-tarrin-warren-2/
LOCATION:Heritage Oak Stables\, 348 Lower Mason Creek Rd\, Bandera\, TX\, 78003\, United States
CATEGORIES:Clinics & Seminars,Southern Great Plains (SGP)
ATTACH;FMTTYPE=image/jpeg:https://workinghorsecentral.com/wp-content/uploads/2022/03/IMG_7289.jpg
ORGANIZER;CN="TNT Quarter Horses LLC.":MAILTO:tntfarmsqtrhorses@yahoo.com
END:VEVENT
BEGIN:VEVENT
DTSTART;TZID=America/Chicago:20230304T090000
DTEND;TZID=America/Chicago:20230304T170000
DTSTAMP:20260421T034506
CREATED:20230214T021203Z
LAST-MODIFIED:20230214T021702Z
UID:6563-1677920400-1677949200@workinghorsecentral.com
SUMMARY:Working Horsemanship Clinic with Tarrin Warren
DESCRIPTION:
URL:https://workinghorsecentral.com/event/working-horsemanship-clinic-with-tarrin-warren-15/
LOCATION:TNT Quarter Horses\, 2468 Co Rd 346\, Milano\, TX\, 76556\, United States
CATEGORIES:Clinics & Seminars,Southern Great Plains (SGP)
ATTACH;FMTTYPE=image/jpeg:https://workinghorsecentral.com/wp-content/uploads/2022/03/IMG_7289.jpg
ORGANIZER;CN="TNT Quarter Horses LLC.":MAILTO:tntfarmsqtrhorses@yahoo.com
END:VEVENT
BEGIN:VEVENT
DTSTART;VALUE=DATE:20230122
DTEND;VALUE=DATE:20230124
DTSTAMP:20260421T034506
CREATED:20221021T185337Z
LAST-MODIFIED:20221021T185911Z
UID:6397-1674345600-1674518399@workinghorsecentral.com
SUMMARY:Working Horsemanship Clinic with Tarrin Warren
DESCRIPTION:
URL:https://workinghorsecentral.com/event/working-horsemanship-clinic-with-tarrin-warren-12/
LOCATION:Heritage Oak Stables\, 348 Lower Mason Creek Rd\, Bandera\, TX\, 78003\, United States
CATEGORIES:Clinics & Seminars,Southern Great Plains (SGP)
ATTACH;FMTTYPE=image/jpeg:https://workinghorsecentral.com/wp-content/uploads/2022/03/IMG_7289.jpg
ORGANIZER;CN="TNT Quarter Horses LLC.":MAILTO:tntfarmsqtrhorses@yahoo.com
END:VEVENT
BEGIN:VEVENT
DTSTART;VALUE=DATE:20221202
DTEND;VALUE=DATE:20221204
DTSTAMP:20260421T034506
CREATED:20220926T215240Z
LAST-MODIFIED:20220926T221452Z
UID:6388-1669939200-1670111999@workinghorsecentral.com
SUMMARY:Working Horsemanship Clinic with Tarrin Warren
DESCRIPTION:
URL:https://workinghorsecentral.com/event/working-horsemanship-clinic-with-tarrin-warren-10/
LOCATION:Beau Soleil Farm\, 1105 Stoneleigh Road\, Comfort\, TX\, 78013
CATEGORIES:Clinics & Seminars,Southern Great Plains (SGP)
ATTACH;FMTTYPE=image/jpeg:https://workinghorsecentral.com/wp-content/uploads/2022/03/IMG_7289.jpg
ORGANIZER;CN="Beau Soleil Farm":MAILTO:beausoleilfarmgirl@outlook.com
END:VEVENT
BEGIN:VEVENT
DTSTART;VALUE=DATE:20221120
DTEND;VALUE=DATE:20221121
DTSTAMP:20260421T034506
CREATED:20220928T134953Z
LAST-MODIFIED:20220928T140953Z
UID:6390-1668902400-1668988799@workinghorsecentral.com
SUMMARY:Working Horsemanship Clinic with Tarrin Warren
DESCRIPTION:
URL:https://workinghorsecentral.com/event/working-horsemanship-clinic-with-tarrin-warren-11/
LOCATION:Chamberlain Dressage\, 206 County Road 3798\, Springtown\, TX\, 76082\, United States
CATEGORIES:Clinics & Seminars,Southern Great Plains (SGP)
ATTACH;FMTTYPE=image/jpeg:https://workinghorsecentral.com/wp-content/uploads/2022/03/IMG_7289.jpg
ORGANIZER;CN="Chamberlain Dressage":MAILTO:carrie_ferrer@msn.com
END:VEVENT
BEGIN:VEVENT
DTSTART;VALUE=DATE:20221008
DTEND;VALUE=DATE:20221010
DTSTAMP:20260421T034506
CREATED:20220615T235429Z
LAST-MODIFIED:20220616T000527Z
UID:6337-1665187200-1665359999@workinghorsecentral.com
SUMMARY:Working Horsemanship Clinic with Tarrin Warren
DESCRIPTION:
URL:https://workinghorsecentral.com/event/working-horsemanship-clinic-with-tarrin-warren-7/
LOCATION:Heritage Oak Stables\, 348 Lower Mason Creek Rd\, Bandera\, TX\, 78003\, United States
CATEGORIES:Clinics & Seminars,Southern Great Plains (SGP)
ATTACH;FMTTYPE=image/jpeg:https://workinghorsecentral.com/wp-content/uploads/2022/03/IMG_7289.jpg
ORGANIZER;CN="TNT Quarter Horses LLC.":MAILTO:tntfarmsqtrhorses@yahoo.com
END:VEVENT
BEGIN:VEVENT
DTSTART;VALUE=DATE:20221001
DTEND;VALUE=DATE:20221002
DTSTAMP:20260421T034506
CREATED:20220329T023617Z
LAST-MODIFIED:20220329T023735Z
UID:5842-1664582400-1664668799@workinghorsecentral.com
SUMMARY:Working Horsemanship Clinic with Tarrin Warren
DESCRIPTION:
URL:https://workinghorsecentral.com/event/working-horsemanship-clinic-with-tarrin-warren-6/
LOCATION:TNT Quarter Horses\, 2468 Co Rd 346\, Milano\, TX\, 76556\, United States
CATEGORIES:Clinics & Seminars,Southern Great Plains (SGP)
ATTACH;FMTTYPE=image/jpeg:https://workinghorsecentral.com/wp-content/uploads/2022/03/IMG_7289.jpg
ORGANIZER;CN="TNT Quarter Horses LLC.":MAILTO:tntfarmsqtrhorses@yahoo.com
END:VEVENT
BEGIN:VEVENT
DTSTART;VALUE=DATE:20220902
DTEND;VALUE=DATE:20220904
DTSTAMP:20260421T034506
CREATED:20220718T195156Z
LAST-MODIFIED:20220718T195540Z
UID:6370-1662076800-1662249599@workinghorsecentral.com
SUMMARY:Working Horsemanship Clinic with Tarrin Warren
DESCRIPTION:
URL:https://workinghorsecentral.com/event/working-horsemanship-clinic-with-tarrin-warren-9/
LOCATION:Beau Soleil Farm\, 1105 Stoneleigh Road\, Comfort\, TX\, 78013
CATEGORIES:Clinics & Seminars,Southern Great Plains (SGP)
ATTACH;FMTTYPE=image/jpeg:https://workinghorsecentral.com/wp-content/uploads/2022/03/IMG_7289.jpg
ORGANIZER;CN="Beau Soleil Farm":MAILTO:beausoleilfarmgirl@outlook.com
END:VEVENT
BEGIN:VEVENT
DTSTART;VALUE=DATE:20220721
DTEND;VALUE=DATE:20220724
DTSTAMP:20260421T034506
CREATED:20220328T232051Z
LAST-MODIFIED:20220329T022835Z
UID:5821-1658361600-1658620799@workinghorsecentral.com
SUMMARY:Working Horsemanship Clinic with Tarrin Warren
DESCRIPTION:
URL:https://workinghorsecentral.com/event/working-horsemanship-clinic-with-tarrin-warren/
LOCATION:Rach Riding Academy\, 3380 Morrow Lane\, Milford\, MI\, 48381
CATEGORIES:Clinics & Seminars,Great Lakes (GL)
ATTACH;FMTTYPE=image/jpeg:https://workinghorsecentral.com/wp-content/uploads/2022/03/IMG_7289.jpg
ORGANIZER;CN="TNT Quarter Horses LLC.":MAILTO:tntfarmsqtrhorses@yahoo.com
END:VEVENT
BEGIN:VEVENT
DTSTART;VALUE=DATE:20220708
DTEND;VALUE=DATE:20220710
DTSTAMP:20260421T034506
CREATED:20220616T205548Z
LAST-MODIFIED:20220616T210055Z
UID:6342-1657238400-1657411199@workinghorsecentral.com
SUMMARY:Working Horsemanship Clinic with Tarrin Warren
DESCRIPTION:
URL:https://workinghorsecentral.com/event/working-horsemanship-clinic-with-tarrin-warren-8/
LOCATION:Beau Soleil Farm\, 1105 Stoneleigh Road\, Comfort\, TX\, 78013
CATEGORIES:Clinics & Seminars,Southern Great Plains (SGP)
ATTACH;FMTTYPE=image/jpeg:https://workinghorsecentral.com/wp-content/uploads/2022/03/IMG_7289.jpg
ORGANIZER;CN="Beau Soleil Farm":MAILTO:beausoleilfarmgirl@outlook.com
END:VEVENT
BEGIN:VEVENT
DTSTART;VALUE=DATE:20220604
DTEND;VALUE=DATE:20220605
DTSTAMP:20260421T034506
CREATED:20220329T023331Z
LAST-MODIFIED:20220429T205930Z
UID:5840-1654300800-1654387199@workinghorsecentral.com
SUMMARY:Working Horsemanship Clinic with Tarrin Warren
DESCRIPTION:
URL:https://workinghorsecentral.com/event/working-horsemanship-clinic-with-tarrin-warren-5/
LOCATION:TNT Quarter Horses\, 2468 Co Rd 346\, Milano\, TX\, 76556\, United States
CATEGORIES:Clinics & Seminars,Southern Great Plains (SGP)
ATTACH;FMTTYPE=image/jpeg:https://workinghorsecentral.com/wp-content/uploads/2022/03/IMG_7289.jpg
ORGANIZER;CN="TNT Quarter Horses LLC.":MAILTO:tntfarmsqtrhorses@yahoo.com
END:VEVENT
BEGIN:VEVENT
DTSTART;VALUE=DATE:20220513
DTEND;VALUE=DATE:20220516
DTSTAMP:20260421T034506
CREATED:20220329T021326Z
LAST-MODIFIED:20220329T022805Z
UID:5832-1652400000-1652659199@workinghorsecentral.com
SUMMARY:Working Horsemanship Clinic with Tarrin Warren
DESCRIPTION:
URL:https://workinghorsecentral.com/event/working-horsemanship-clinic-with-tarrin-warren-3/
LOCATION:Brecksville Stables\, 11921 Parkview Drive\, Brecksville\, OH\, 44141
CATEGORIES:Clinics & Seminars,Great Lakes (GL)
ATTACH;FMTTYPE=image/jpeg:https://workinghorsecentral.com/wp-content/uploads/2022/03/IMG_7289.jpg
ORGANIZER;CN="TNT Quarter Horses LLC.":MAILTO:tntfarmsqtrhorses@yahoo.com
END:VEVENT
BEGIN:VEVENT
DTSTART;VALUE=DATE:20220507
DTEND;VALUE=DATE:20220508
DTSTAMP:20260421T034506
CREATED:20220329T022303Z
LAST-MODIFIED:20220329T023102Z
UID:5835-1651881600-1651967999@workinghorsecentral.com
SUMMARY:Working Horsemanship Clinic with Tarrin Warren
DESCRIPTION:
URL:https://workinghorsecentral.com/event/working-horsemanship-clinic-with-tarrin-warren-4/
LOCATION:TNT Quarter Horses\, 2468 Co Rd 346\, Milano\, TX\, 76556\, United States
CATEGORIES:Clinics & Seminars,Southern Great Plains (SGP)
ATTACH;FMTTYPE=image/jpeg:https://workinghorsecentral.com/wp-content/uploads/2022/03/IMG_7289.jpg
ORGANIZER;CN="TNT Quarter Horses LLC.":MAILTO:tntfarmsqtrhorses@yahoo.com
END:VEVENT
BEGIN:VEVENT
DTSTART;TZID=America/Chicago:20220305T090000
DTEND;TZID=America/Chicago:20220305T180000
DTSTAMP:20260421T034506
CREATED:20220201T041342Z
LAST-MODIFIED:20220225T221145Z
UID:5684-1646470800-1646503200@workinghorsecentral.com
SUMMARY:WHC Clinic
DESCRIPTION:
URL:https://workinghorsecentral.com/event/whc-clinic/
LOCATION:TNT Quarter Horses\, 2468 Co Rd 346\, Milano\, TX\, 76556\, United States
CATEGORIES:Clinics & Seminars,Southern Great Plains (SGP)
ATTACH;FMTTYPE=image/jpeg:https://workinghorsecentral.com/wp-content/uploads/2021/09/IMG_0795.jpg
ORGANIZER;CN="TNT Quarter Horses LLC.":MAILTO:tntfarmsqtrhorses@yahoo.com
END:VEVENT
END:VCALENDAR